BEGIN:VCALENDAR
VERSION:2.0
PRODID:-//ChamberMaster//Event Calendar 2.0//EN
METHOD:PUBLISH
X-PUBLISHED-TTL:P3D
REFRESH-INTERVAL:P3D
CALSCALE:GREGORIAN
BEGIN:VEVENT
DTSTART:20160514T190000Z
DTEND:20160514T203000Z
X-MICROSOFT-CDO-ALLDAYEVENT:FALSE
SUMMARY:The Nature Theater of Christo and Jeanne-Claude
DESCRIPTION:The artists Christo and Jeanne-Claude have been making vast\, temporary art works in public places for half a century. Their Running Fence\, Sonoma and Marin Counties\, California made international headlines in 1976 and\, as Christo embarks on a new project for Lake Iseo\, near Milan in June of 2016\, their work still forces people to rethink much that takes place in the public sphere and in their own lives. In this lecture\, Professor Fineberg will examine why this work continues to have such an enormous impact and what this tells us about why society continues to need great works of art.
X-ALT-DESC;FMTTYPE=text/html:The artists Christo and Jeanne-Claude have been making vast\, temporary art works in public places for half a century. Their Running Fence\, Sonoma and Marin Counties\, California made international headlines in 1976 and\, as Christo embarks on a new project for Lake Iseo\, near Milan in June of 2016\, their work still forces people to rethink much that takes place in the public sphere and in their own lives. In this lecture\, Professor Fineberg will examine why this work continues to have such an enormous impact and what this tells us about why society continues to need great works of art.
LOCATION:The Hyde Collection 161 Warren St.\, Glens Falls\, NY 12801
UID:e.2254.16337
SEQUENCE:3
DTSTAMP:20260421T161314Z
URL:https://chamber.saratoga.org/events/details/the-nature-theater-of-christo-and-jeanne-claude-05-14-2016-16337
END:VEVENT

END:VCALENDAR
