BEGIN:VCALENDAR
VERSION:2.0
PRODID:-//ChamberMaster//Event Calendar 2.0//EN
METHOD:PUBLISH
X-PUBLISHED-TTL:P3D
REFRESH-INTERVAL:P3D
CALSCALE:GREGORIAN
BEGIN:VEVENT
DTSTART;VALUE=DATE:20150629
DTEND;VALUE=DATE:20150630
TRANSP:TRANSPARENT
X-MICROSOFT-CDO-ALLDAYEVENT:TRUE
SUMMARY:The Mormon Tabernacle Choir
DESCRIPTION:The Mormon Tabernacle Choir\, often referred to as "America's Choir\," is among the world's best-known and most respected musical organizations. Highlights of its storied career include performances at the inaugurals of six U.S. presidents\, the 2002 Winter Olympic Games\, thirteen world's fairs and expositions\, and numerous worldwide telecasts. Saratoga Performing Arts Center is excited to host the Mormon Tabernacle Choir on Monday\, June 29\, in one of only five cities on the group's 2015 Atlantic Coast tour.
X-ALT-DESC;FMTTYPE=text/html:<p style="margin: 0in 0in 0pt\;"><span style="font-family: &quot\;Times New Roman&quot\;\,&quot\;serif&quot\;\; font-size: 12pt\;"><font color="#000000">The Mormon Tabernacle Choir\, often referred to as &ldquo\;America&rsquo\;s Choir\,&rdquo\; is among the world&rsquo\;s best-known and most respected musical organizations. Highlights of its storied career include performances at the inaugurals of six U.S. presidents\, the 2002 Winter Olympic Games\, thirteen world&#39\;s fairs and expositions\, and numerous worldwide telecasts. Saratoga Performing Arts Center is excited to host the Mormon Tabernacle Choir on Monday\, June 29\, in one of only five cities on the group&rsquo\;s 2015 Atlantic Coast tour.</font></span></p>\n
LOCATION:Saratoga Performing Arts Center
UID:e.2254.1286
SEQUENCE:3
DTSTAMP:20260423T072215Z
URL:https://chamber.saratoga.org/events/details/the-mormon-tabernacle-choir-06-29-2015-1286
END:VEVENT

END:VCALENDAR
