BEGIN:VCALENDAR
VERSION:2.0
PRODID:-//ChamberMaster//Event Calendar 2.0//EN
METHOD:PUBLISH
X-PUBLISHED-TTL:P3D
REFRESH-INTERVAL:P3D
CALSCALE:GREGORIAN
BEGIN:VEVENT
DTSTART:20150712T230000Z
DTEND:20150713T010000Z
X-MICROSOFT-CDO-ALLDAYEVENT:FALSE
SUMMARY:The Mitzvah Project
DESCRIPTION:This one-person play and lecture examines one of the most astonishing stories of WWII. The Mitzvah Project combines theater and conversation to address identity\, killing in a moral universe\, and the human capacity to learn from history. Panel discussion and dessert reception to follow. $5 donation requested. 7 p.m.-Filene Recital Hall RSVP to office@saratogasinai.org or call 584-7830
X-ALT-DESC;FMTTYPE=text/html:This one-person play and lecture examines one of the most astonishing stories of WWII. The Mitzvah Project combines theater and conversation to address identity\, killing in a moral universe\, and the human capacity to learn from history. Panel discussion and dessert reception to follow. $5 donation requested. 7 p.m.-Filene Recital Hall RSVP to office@saratogasinai.org or call 584-7830
LOCATION:Skidmore College\, Filene Recital Hall 815 N Broadway Saratoga Springs\, NY 12866
UID:e.2254.9744
SEQUENCE:3
DTSTAMP:20260423T040246Z
URL:https://chamber.saratoga.org/events/details/the-mitzvah-project-07-12-2015-9744
END:VEVENT

END:VCALENDAR
