BEGIN:VCALENDAR
VERSION:2.0
PRODID:-//ChamberMaster//Event Calendar 2.0//EN
METHOD:PUBLISH
X-PUBLISHED-TTL:P3D
REFRESH-INTERVAL:P3D
CALSCALE:GREGORIAN
BEGIN:VEVENT
DTSTART:20150710T160000Z
DTEND:20150725T160000Z
X-MICROSOFT-CDO-ALLDAYEVENT:FALSE
SUMMARY:The Long Walk
DESCRIPTION:The Long Walk is a new opera by composer Jeremy Howard Beck and librettist Stephanie Fleischmann\, which is based on Brian Castner's critically acclaimed book of the same name. The opera is a deeply personal exploration of a soldier's return from Iraq where he served as an officer in an Explosive Ordnance Disposal unit and his battle with what he calls "the Crazy" as he tries to reintegrate into his family life upon returning from the war. Opera Saratoga is honored to present the world premiere of The Long Walk in partnership with American Lyric Theater. Internationally renowned theater and opera director David Schweizer makes his Opera Saratoga debut\, with celebrated American conductor Steven Osgood on the podium. Grammy Award winning Baritone Daniel Belcher returns to Opera Saratoga to create the role of Brian\, alongside mezzo-soprano Heather Johnson\, who makes her company debut as his wife Jessie. The cast also includes the company debuts of sopranos Caroline Worra and Donita Volkwijn\, tenors David Blalock and Javier Abreu\, and bass baritone Justin Hopkins.
X-ALT-DESC;FMTTYPE=text/html:<em>The Long Walk</em> is a new opera by composer <strong>Jeremy Howard Beck </strong>and librettist <strong>Stephanie Fleischmann\,</strong> which is based on <strong>Brian Castner</strong>&rsquo\;s critically acclaimed book of the same name. The opera is a deeply personal exploration of a soldier&rsquo\;s return from Iraq where he served as an officer in an Explosive Ordnance Disposal unit and his battle with what he calls &ldquo\;the Crazy&rdquo\; as he tries to reintegrate into his family life upon returning from the war. Opera Saratoga is honored to present the world premiere of <em>The Long Walk</em> in partnership with American Lyric Theater. Internationally renowned theater and opera director <strong>David Schweizer</strong> makes his Opera Saratoga debut\, with celebrated American conductor <strong>Steven Osgood</strong> on the podium. Grammy Award winning Baritone <strong>Daniel Belcher</strong> returns to Opera Saratoga to create the role of Brian\, alongside mezzo-soprano <strong>Heather Johnson</strong>\, who makes her company debut as his wife Jessie. The cast also includes the company debuts of sopranos <strong>Caroline Worra</strong> and <strong>Donita Volkwijn</strong>\, tenors <strong>David Blalock</strong> and <strong>Javier Abreu</strong>\, and bass baritone <strong>Justin Hopkins</strong>.&nbsp\;
LOCATION:The Spa Little Theater in Spa State Park 21 Roosevelt Drive Saratoga Springs\, NY 12866
UID:e.2254.6925
SEQUENCE:3
DTSTAMP:20260423T040142Z
URL:https://chamber.saratoga.org/events/details/the-long-walk-07-10-2015-6925
END:VEVENT

END:VCALENDAR
