BEGIN:VCALENDAR
VERSION:2.0
PRODID:-//ChamberMaster//Event Calendar 2.0//EN
METHOD:PUBLISH
X-PUBLISHED-TTL:P3D
REFRESH-INTERVAL:P3D
CALSCALE:GREGORIAN
BEGIN:VEVENT
DTSTART:20170224T180000Z
DTEND:20170224T200000Z
X-MICROSOFT-CDO-ALLDAYEVENT:FALSE
SUMMARY:The History of Diamond Jim Brady and Lillian Russell
DESCRIPTION:Join Charles Kuenzel for a presentation on former Saratoga socialite\, Lillian Russell and businessman Diamond Jim Brady. OPEN TO THE PUBLIC.
X-ALT-DESC;FMTTYPE=text/html:Join Charles Kuenzel for a presentation on former Saratoga socialite\, Lillian Russell and businessman Diamond Jim Brady. OPEN TO THE PUBLIC.
LOCATION:The Adult and Senior Center of Saratoga 5 Williams Street Saratoga Springs\, NY 12866
UID:e.2254.22412
SEQUENCE:3
DTSTAMP:20260420T115633Z
URL:https://chamber.saratoga.org/events/details/the-history-of-diamond-jim-brady-and-lillian-russell-22412
END:VEVENT

END:VCALENDAR
