BEGIN:VCALENDAR
VERSION:2.0
PRODID:-//ChamberMaster//Event Calendar 2.0//EN
METHOD:PUBLISH
X-PUBLISHED-TTL:P3D
REFRESH-INTERVAL:P3D
CALSCALE:GREGORIAN
BEGIN:VEVENT
DTSTART:20140906T120000Z
DTEND:20140907T170000Z
X-MICROSOFT-CDO-ALLDAYEVENT:FALSE
SUMMARY:The Greenfield Town Wide Garage Sale - 09/06/2014
DESCRIPTION:The Greenfield Town Wide Garage SaleIt’s that time of year again\, summer is in full swing\, but fall is swiftly approaching\, and with fall comes cider donuts\, brisk air\, and the Annual Greenfield Town Wide Garage Sale! This years event will be two days\, 9/6 & 9/7\, and will also include the Greenfield Farmers Market at the Middle Grove Park. Register at http://www.thegcba.org/events to have a sale or to become a vendor\, registration must be in my 8/29/14.
X-ALT-DESC;FMTTYPE=text/html:<p>The Greenfield Town Wide Garage Sale</p><span style="color: rgb(51\, 51\, 51)\; font-family: 'Lucida Grande'\, Verdana\, Arial\, sans-serif\; line-height: 20px\; background-color: rgb(255\, 255\, 255)\;">It’s that time of year again\, summer is in full swing\, but fall is swiftly approaching\, and with fall comes cider donuts\, brisk air\, and the Annual Greenfield Town Wide Garage Sale! This years event will be two days\, 9/6 &amp\; 9/7\, and will also include the Greenfield Farmers Market at the Middle Grove Park. Register at http://www.thegcba.org/events to have a sale or to become a vendor\, registration must be in my 8/29/14.</span><br>
LOCATION:Town of Greenfield
UID:e.2254.3476
SEQUENCE:3
DTSTAMP:20260424T111047Z
URL:https://chamber.saratoga.org/events/details/the-greenfield-town-wide-garage-sale-09-06-2014-09-06-2014-3476
END:VEVENT

END:VCALENDAR
