BEGIN:VCALENDAR
VERSION:2.0
PRODID:-//ChamberMaster//Event Calendar 2.0//EN
METHOD:PUBLISH
X-PUBLISHED-TTL:P3D
REFRESH-INTERVAL:P3D
CALSCALE:GREGORIAN
BEGIN:VEVENT
DTSTART:20170212T003000Z
DTEND:20170226T213000Z
X-MICROSOFT-CDO-ALLDAYEVENT:FALSE
SUMMARY:The Game’s Afoot at HMT
DESCRIPTION:By Ken Ludwig. It's December 1936 and Broadway star William Gillette\, admired the world over for portraying Sherlock Holmes\, has invited his fellow castmates to his Connecticut castle for the weekend. But when one of the guests is stabbed to death\, the festivities quickly turn dangerous. It's then up to Gillette himself\, as he assumes the persona of his beloved Holmes\, to track down the killer before there's another victim. The danger and hilarity are non-stop in this glittering whodunit! Weekends Feb 11   26.
X-ALT-DESC;FMTTYPE=text/html:By Ken Ludwig. It&rsquo\;s December 1936 and Broadway star William Gillette\, admired the world over for portraying Sherlock Holmes\, has invited his fellow castmates to his Connecticut castle for the weekend. But when one of the guests is stabbed to death\, the festivities quickly turn dangerous. It&rsquo\;s then up to Gillette himself\, as he assumes the persona of his beloved Holmes\, to track down the killer before there&rsquo\;s another victim. The danger and hilarity are non-stop in this glittering whodunit! Weekends Feb 11 &ndash\; 26.
LOCATION:HMT at The Spa Little Theater 19 Roosevelt Drive Saratoga Spa State Park Saratoga Springs\, NY 12866 www.homemadetheater.org/us/contact-us/
UID:e.2254.17321
SEQUENCE:3
DTSTAMP:20260420T102037Z
URL:https://chamber.saratoga.org/events/details/the-game-s-afoot-at-hmt-02-11-2017-17321
END:VEVENT

END:VCALENDAR
