BEGIN:VCALENDAR
VERSION:2.0
PRODID:-//ChamberMaster//Event Calendar 2.0//EN
METHOD:PUBLISH
X-PUBLISHED-TTL:P3D
REFRESH-INTERVAL:P3D
CALSCALE:GREGORIAN
BEGIN:VEVENT
DTSTART:20150722T233000Z
DTEND:20150723T010000Z
X-MICROSOFT-CDO-ALLDAYEVENT:FALSE
SUMMARY:The Forgotten Songs of Sergius Kagen
DESCRIPTION:A lecture recital on the life\, career\, and compositions of Sergius Kagen featuring art songs by Kagen set to the poetry of Carl Sandburg\, Emily Dickinson\, James Joyce\, Langston Hughes\, and Walter de la Mare. Sergius is best known as the editor of most of the critical editions of song that singers use daily\, but was also a renowned teacher of voice\, accompaniment\, and repertoire at Julliard and an extremely gifted pianist. It was in this capacity\, as a pianist\, that Kagen came to play in the studio of Marcella Sembrich and spend subsequent summers at the summer retreat on Lake George.
X-ALT-DESC;FMTTYPE=text/html:A lecture recital on the life\, career\, and compositions of Sergius Kagen featuring art songs by Kagen set to the poetry of Carl Sandburg\, Emily Dickinson\, James Joyce\, Langston Hughes\, and Walter de la Mare. Sergius is best known as the editor of most of the critical editions of song that singers use daily\, but was also a renowned teacher of voice\, accompaniment\, and repertoire at Julliard and an extremely gifted pianist. It was in this capacity\, as a pianist\, that Kagen came to play in the studio of Marcella Sembrich and spend subsequent summers at the summer retreat on Lake George.
LOCATION:The Sembrich\, 4800 Lakeshore Drive\, Bolton Landing\, NY
UID:e.2254.10034
SEQUENCE:3
DTSTAMP:20260423T042828Z
URL:https://chamber.saratoga.org/events/details/the-forgotten-songs-of-sergius-kagen-07-22-2015-10034
END:VEVENT

END:VCALENDAR
