BEGIN:VCALENDAR
VERSION:2.0
PRODID:-//ChamberMaster//Event Calendar 2.0//EN
METHOD:PUBLISH
X-PUBLISHED-TTL:P3D
REFRESH-INTERVAL:P3D
CALSCALE:GREGORIAN
BEGIN:VEVENT
DTSTART:20150516T180000Z
DTEND:20150524T160000Z
X-MICROSOFT-CDO-ALLDAYEVENT:FALSE
SUMMARY:The Diary of Anne Frank
DESCRIPTION:The Local Actors Guild of Saratoga proudly presents The Diary of Anne Frank.  During the Nazi occupation of the Netherlands Anne Frank began to keep a diary\, on June 14\, 1942\, two days after her 13th birthday\, and twenty two days before going into hiding with her mother\, father\, sister\, and three other people. The group went into hiding in the sealed-off upper rooms of the annex of her father's office building in Amsterdam. The sealed-off upper-rooms also contained a hidden door which the Franks would hide in during the parts when Nazi soldiers were investigating the buildings for harbored Jews. They remained hidden for two years and one month\, until their betrayal in August 1944\, which resulted in their deportation going to Nazi concentration camps. Anne Frank: Christine Meglino\, Otto Frank: Gary Hoffman\, Edith Frank: Melissa Hoffman Margot Frank.: Dianne DeSantis\, Mr. van Daan: Michael McDermott\, Mrs: van Daan: Ann Millken\, Peter van Daan: Christopher Malatesta\, Mr.Dussel: JJ Buechner\, Mrs Kraler: Darlene Kelly\, Miep Gies: Shannon Piegaro\, Director: Dawn Oesch.  Performances at the Saratoga Arts Center 320 Broadway Saratoga Springs.
X-ALT-DESC;FMTTYPE=text/html:The Local Actors Guild of Saratoga proudly presents The Diary of Anne Frank. &nbsp\;During the Nazi occupation of the Netherlands Anne Frank began to keep a diary\, on June 14\, 1942\, two days after her 13th birthday\, and twenty two days before going into hiding with her mother\, father\, sister\, and three other people. The group went into hiding in the sealed-off upper rooms of the annex of her father&#39\;s office building in Amsterdam. The sealed-off upper-rooms also contained a hidden door which the Franks would hide in during the parts when Nazi soldiers were investigating the buildings for harbored Jews. They remained hidden for two years and one month\, until their betrayal in August 1944\, which resulted in their deportation going to Nazi concentration camps. Anne Frank: Christine Meglino\, Otto Frank: Gary Hoffman\, Edith Frank: Melissa Hoffman Margot Frank.: Dianne DeSantis\, Mr. van Daan: Michael McDermott\, Mrs: van Daan: Ann Millken\, Peter van Daan: Christopher Malatesta\, Mr.Dussel: JJ Buechner\, Mrs Kraler: Darlene Kelly\, Miep Gies: Shannon Piegaro\, Director: Dawn Oesch. &nbsp\;Performances at the Saratoga Arts Center 320 Broadway Saratoga Springs.
LOCATION:Saratoga Arts Center 320 Broadway
UID:e.2254.7850
SEQUENCE:3
DTSTAMP:20260423T163936Z
URL:https://chamber.saratoga.org/events/details/the-diary-of-anne-frank-05-16-2015-7850
END:VEVENT

END:VCALENDAR
