BEGIN:VCALENDAR
VERSION:2.0
PRODID:-//ChamberMaster//Event Calendar 2.0//EN
METHOD:PUBLISH
X-PUBLISHED-TTL:P3D
REFRESH-INTERVAL:P3D
CALSCALE:GREGORIAN
BEGIN:VEVENT
DTSTART:20160507T193000Z
DTEND:20160507T233000Z
X-MICROSOFT-CDO-ALLDAYEVENT:FALSE
SUMMARY:the Derby Party
DESCRIPTION:Join us on Saturday\, May 7th\, 2016 from 3:30pm-7:30pm as the National Museum of Racing and Hall of Fame presents the Derby Party! This year's theme is all things Kentucky\, featuring delicious samplings of local brews and spirits\, as well as signature Kentucky inspired dishes and drinks from local restaurants\, live music by Rich Ortiz\, and a live airing of the Kentucky Derby in the sport's Official Hall of Fame: the biggest screen in Saratoga! Guests are encouraged to dress to impress\, as an award for the most fashionable Derby attire will be presented by Natalie Sillery of Saratoga Trunk. Also\, there's always a chance to win with our race-day inspired raffle! The National Museum of Racing and Hall of Fame is excited to offer an authentic experience with a unique twist for the racing and foodie enthusiast. All proceeds from this year's event will support the notable exhibits and educational initiatives at the Museum here in the heart of Saratoga Springs.
X-ALT-DESC;FMTTYPE=text/html:Join us on Saturday\, May 7th\, 2016 from 3:30pm-7:30pm as the National Museum of Racing and Hall of Fame presents the Derby Party! This year&#39\;s theme is all things Kentucky\, featuring delicious samplings of local brews and spirits\, as well as signature Kentucky inspired dishes and drinks from local restaurants\, live music by Rich Ortiz\, and a live airing of the Kentucky Derby in the sport&#39\;s Official Hall of Fame: the biggest screen in Saratoga! Guests are encouraged to dress to impress\, as an award for the most fashionable Derby attire will be presented by Natalie Sillery of Saratoga Trunk. Also\, there&#39\;s always a chance to win with our race-day inspired raffle! The National Museum of Racing and Hall of Fame is excited to offer an authentic experience with a unique twist for the racing and foodie enthusiast. All proceeds from this year&#39\;s event will support the notable exhibits and educational initiatives at the Museum here in the heart of Saratoga Springs.
LOCATION:National Museum of Racing and Hall of Fame 191 Union Avenue Saratoga Springs\, NY 12866
UID:e.2254.14964
SEQUENCE:3
DTSTAMP:20260421T210228Z
URL:https://chamber.saratoga.org/events/details/the-derby-party-05-07-2016-14964
END:VEVENT

END:VCALENDAR
