BEGIN:VCALENDAR
VERSION:2.0
PRODID:-//ChamberMaster//Event Calendar 2.0//EN
METHOD:PUBLISH
X-PUBLISHED-TTL:P3D
REFRESH-INTERVAL:P3D
CALSCALE:GREGORIAN
BEGIN:VEVENT
DTSTART:20161015T150000Z
DTEND:20161016T000000Z
X-MICROSOFT-CDO-ALLDAYEVENT:FALSE
SUMMARY:The Children's Museum at Saratoga's 2nd Annual Golf Tournament
DESCRIPTION:The Children's Museum at Saratoga is very excited to announce our second annual golf tournament! Join us on Saturday\, October 15th at the McGregor Links Country Club\, 359 Northern Pines Rd\, Wilton\, NY 12831\, registration begins at 11am\, and the tournament will begin at noon. You can expect lots of fun\, wacky games\, and contests along the course! At 4pm we invite you to join us for our Apr s Golf Party complete with hors d'oeuvres and a cash bar. The entry fee is $95 per golfer\, and includes a cart and one free drink ticket. Proceeds benefit The Children's Museum at Saratoga. Please register online by October 1st.
X-ALT-DESC;FMTTYPE=text/html:The Children&#39\;s Museum at Saratoga is very excited to announce our second annual golf tournament! Join us on Saturday\, October 15th at the McGregor Links Country Club\, 359 Northern Pines Rd\, Wilton\, NY 12831\, registration begins at 11am\, and the tournament will begin at noon. You can expect lots of fun\, wacky games\, and contests along the course! At 4pm we invite you to join us for our Apr&eacute\;s Golf Party complete with hors d&#39\;oeuvres and a cash bar. The entry fee is $95 per golfer\, and includes a cart and one free drink ticket. Proceeds benefit The Children&#39\;s Museum at Saratoga. Please register online by October 1st.
LOCATION:McGregor Links Country Club 359 Norther Pines Rd. Wilton\, NY 12831
UID:e.2254.19488
SEQUENCE:3
DTSTAMP:20260420T232440Z
URL:https://chamber.saratoga.org/events/details/the-children-s-museum-at-saratoga-s-2nd-annual-golf-tournament-19488
END:VEVENT

END:VCALENDAR
