BEGIN:VCALENDAR
VERSION:2.0
PRODID:-//ChamberMaster//Event Calendar 2.0//EN
METHOD:PUBLISH
X-PUBLISHED-TTL:P3D
REFRESH-INTERVAL:P3D
CALSCALE:GREGORIAN
BEGIN:VEVENT
DTSTART:20260422T140000Z
DTEND:20260422T143000Z
X-MICROSOFT-CDO-ALLDAYEVENT:FALSE
SUMMARY:The Canopy Ribbon Cutting
DESCRIPTION:Please join the Saratoga County Chamber of Commerce in celebrating the grand opening of the Canopy! Built by hand by the team behind Mandy's Spring Nursery\, it blends a garden center\, caf \, and home goods shop under one warm and inspiring roof! The Canopy is more than a store - it's a community built by real people who love gardens\, good coffee\, great design\, and good company.
X-ALT-DESC;FMTTYPE=text/html:<span style="font-size:14px\;"><span style="font-family:arial\;">Please join the Saratoga County Chamber of Commerce in celebrating the grand opening of the Canopy!&nbsp\;<span style="letter-spacing: 0.6px\; text-align: center\;">Built by hand by the team behind Mandy&rsquo\;s Spring Nursery\, it blends a garden center\, caf&eacute\;\, and home goods shop under one warm and inspiring roof! The&nbsp\;</span><span style="letter-spacing: 0.6px\; background-color: rgb(253\, 247\, 238)\;">Canopy is more than a store - it&#39\;s a community built by real people who love gardens\, good coffee\, great design\, and good company.</span></span></span>
LOCATION:The Canopy 697 Saratoga Road Wilton\, NY 12831
UID:e.2254.42299
SEQUENCE:3
DTSTAMP:20260420T155338Z
URL:https://chamber.saratoga.org/events/details/the-canopy-ribbon-cutting-42299
END:VEVENT

END:VCALENDAR
