BEGIN:VCALENDAR
VERSION:2.0
PRODID:-//ChamberMaster//Event Calendar 2.0//EN
METHOD:PUBLISH
X-PUBLISHED-TTL:P3D
REFRESH-INTERVAL:P3D
CALSCALE:GREGORIAN
BEGIN:VEVENT
DTSTART;VALUE=DATE:20160816
DTEND;VALUE=DATE:20160823
TRANSP:TRANSPARENT
X-MICROSOFT-CDO-ALLDAYEVENT:TRUE
SUMMARY:The Budweiser Clydesdales
DESCRIPTION:The World Famous Budweiser Clydesdales are coming to the Capital Region this August.  Don't miss this rare opportunity to see the Clydesdales up close and personal.
X-ALT-DESC;FMTTYPE=text/html:The World Famous Budweiser Clydesdales are coming to the Capital Region this August. &nbsp\;Don&#39\;t miss this rare opportunity to see the Clydesdales up close and personal.
LOCATION:The Clydesdales will be stabled at the Warming Hut area of the Saratoga Spa State Park. They will have events in Saratoga\, Lake George\, Troy\, and Altamont.
UID:e.2254.17209
SEQUENCE:3
DTSTAMP:20260421T020510Z
URL:https://chamber.saratoga.org/events/details/the-budweiser-clydesdales-08-16-2016-17209
END:VEVENT

END:VCALENDAR
