BEGIN:VCALENDAR
VERSION:2.0
PRODID:-//ChamberMaster//Event Calendar 2.0//EN
METHOD:PUBLISH
X-PUBLISHED-TTL:P3D
REFRESH-INTERVAL:P3D
CALSCALE:GREGORIAN
BEGIN:VEVENT
DTSTART:20140917T210000Z
DTEND:20140917T223000Z
X-MICROSOFT-CDO-ALLDAYEVENT:FALSE
SUMMARY:The Anonymous People - 09/17/2014
DESCRIPTION:In recognition of National Recovery Month we are bringing back the much acclaimed documentary\, THE ANONYMOUS PEOPLE \, for another showing on Wednesday\, September 17th.   It will be held at Saratoga Arts\, Dee Sarno Theater at 320  Broadway at 7pm.   The fiTHE ANONYMOUS PEOPLE is a feature documentary about the 23.5 million Americans living in long-term recovery from addiction to alcohol and other drugs. Although social stigma and discrimination have kept recovery voices silent in the past\, THE ANONYMOUS PEOPLE breaks this silence as leaders\, volunteers\, corporate executives\, and celebrities share their courageous stories of addiction and long-term recovery.  \n This screening of The Anonymous People is free.  We do ask you to pre-register at: https://raisaratoga.wildapricot.org/event-1743662   and check out other opportunities and links on our website at: http://raisaratoga.org(Requested\, not required)
X-ALT-DESC;FMTTYPE=text/html:<p>In recognition of National Recovery Month we are bringing back the much acclaimed documentary\, THE ANONYMOUS PEOPLE \, for another showing on Wednesday\, September 17th.   It will be held at Saratoga Arts\, Dee Sarno Theater at 320  Broadway at 7pm.   The fi</p><p>THE ANONYMOUS PEOPLE is a feature documentary about the 23.5 million Americans living in long-term recovery from addiction to alcohol and other drugs. Although social stigma and discrimination have kept recovery voices silent in the past\, THE ANONYMOUS PEOPLE breaks this silence as leaders\, volunteers\, corporate executives\, and celebrities share their courageous stories of addiction and long-term recovery.&nbsp\;</p> <p><br /></p> <p>This screening of The Anonymous People is free.&nbsp\; We do ask you to pre-register at: <a href="https://raisaratoga.wildapricot.org/event-1743662">https://raisaratoga.wildapricot.org/event-1743662</a>&nbsp\; &nbsp\;and check out other opportunities and links on our website at: <a href="http://raisaratoga.org">http://raisaratoga.org</a></p><p>(Requested\, not required)</p> <p><br /></p> <p><br /></p> <p><br /></p>
LOCATION:Arts Center
UID:e.2254.3580
SEQUENCE:3
DTSTAMP:20260424T110809Z
URL:https://chamber.saratoga.org/events/details/the-anonymous-people-09-17-2014-09-17-2014-3580
END:VEVENT

END:VCALENDAR
