BEGIN:VCALENDAR
VERSION:2.0
PRODID:-//ChamberMaster//Event Calendar 2.0//EN
METHOD:PUBLISH
X-PUBLISHED-TTL:P3D
REFRESH-INTERVAL:P3D
CALSCALE:GREGORIAN
BEGIN:VEVENT
DTSTART:20150808T130000Z
DTEND:20150809T200000Z
X-MICROSOFT-CDO-ALLDAYEVENT:FALSE
SUMMARY:The Annual Round Lake Arts & Crafts Festival and Book Sale
DESCRIPTION:The Annual Round Lake Arts & Crafts Festival and Book Sale is Saturday August 8th from 9 am to 4 pm and Sunday August 9th from 9 am to 3 pm located just off Exit 11 on I-87 along the Zim Smith Trail in the Historic Village of Round Lake. Over 60 authenticated crafters and artisans\, pie booth\, 50/50 raffle\, great food & drinks! Book Sale located in the Historic Round Lake Auditorium with a preview day Friday\, August 7th from 5pm 8 pm. Over 15\,000 books Free Admission. For more information or to become a vendor please call 518-899-2800.
X-ALT-DESC;FMTTYPE=text/html:The Annual Round Lake Arts &amp\; Crafts Festival and Book Sale is Saturday August 8th from 9 am to 4 pm and Sunday August 9th from 9 am to 3 pm located just off Exit 11 on I-87 along the Zim Smith Trail in the Historic Village of Round Lake. Over 60 authenticated crafters and artisans\, pie booth\, 50/50 raffle\, great food &amp\; drinks! Book Sale located in the Historic Round Lake Auditorium with a preview day Friday\, August 7th from 5pm&nbsp\;8 pm. Over 15\,000 books Free Admission. For more information or to become a vendor please call 518-899-2800.
LOCATION:Village of Round Lake just off Exit 11 on I-87 along the Zim Smith Trail\, Book Sale in the Historic Round Lake Auditorium
UID:e.2254.10162
SEQUENCE:3
DTSTAMP:20260423T024154Z
URL:https://chamber.saratoga.org/events/details/the-annual-round-lake-arts-crafts-festival-and-book-sale-08-08-2015-10162
END:VEVENT

END:VCALENDAR
