BEGIN:VCALENDAR
VERSION:2.0
PRODID:-//ChamberMaster//Event Calendar 2.0//EN
METHOD:PUBLISH
X-PUBLISHED-TTL:P3D
REFRESH-INTERVAL:P3D
CALSCALE:GREGORIAN
BEGIN:VEVENT
DTSTART:20151121T180000Z
DTEND:20151122T000000Z
X-MICROSOFT-CDO-ALLDAYEVENT:FALSE
SUMMARY:The Algonquin Open House
DESCRIPTION:Built circa 1892\, The Algonquin is considered one of Saratoga Springs' most significant and striking original late Victorian buildings. Join us for a tour of the newly renovated apartments.\n\n \n\nSaturday\, November 21\, 2015\n\nOpen House\n\n1:00PM - 5:00PM\n\n$7 SSPF Members  |  $10 Non-members\n\nTour of the new apartments.\n\n \n\nPrivate Presentation & Reception\n\n5:00PM - 7:00PM\n\n$30 SSPF Members  |  $35 Non-members\n\nA special reception with light refreshments and presentations by local architectural historian James Kettlewell and Albert Rex of MacRostie Historic Advisors\, historic tax credit consultant for the project.\n\n \n\nSpace is limited\, reservations encouraged.\n\nProceeds benefit the Saratoga Springs Preservation Foundation.\n\nRSVP: (518) 587-5030  |  ntotaro@saratogapreservation.org\n\nwww.saratogapreservation.org
X-ALT-DESC;FMTTYPE=text/html:Built circa 1892\, The Algonquin is considered one of Saratoga Springs&rsquo\; most significant and striking original late Victorian buildings. Join us for a tour of the newly renovated apartments.<br />\n&nbsp\;<br />\nSaturday\, November 21\, 2015<br />\nOpen House<br />\n1:00PM - 5:00PM<br />\n$7 SSPF Members&nbsp\; |&nbsp\; $10 Non-members<br />\nTour of the new apartments.<br />\n&nbsp\;<br />\nPrivate Presentation &amp\; Reception<br />\n5:00PM - 7:00PM<br />\n$30 SSPF Members&nbsp\; |&nbsp\; $35 Non-members<br />\nA special reception with light refreshments and presentations by local architectural historian James Kettlewell and Albert Rex of MacRostie Historic Advisors\, historic tax credit consultant for the project.<br />\n&nbsp\;<br />\nSpace is limited\, reservations encouraged.<br />\nProceeds benefit the Saratoga Springs Preservation Foundation.<br />\nRSVP: (518) 587-5030&nbsp\; |&nbsp\; <a href="mailto:ntotaro@saratogapreservation.org">ntotaro@saratogapreservation.org</a><br />\n<a href="http://www.saratogapreservation.org">www.saratogapreservation.org</a>
LOCATION:510 Broadway
UID:e.2254.12812
SEQUENCE:3
DTSTAMP:20260422T103021Z
URL:https://chamber.saratoga.org/events/details/the-algonquin-open-house-11-21-2015-12812
END:VEVENT

END:VCALENDAR
