BEGIN:VCALENDAR
VERSION:2.0
PRODID:-//ChamberMaster//Event Calendar 2.0//EN
METHOD:PUBLISH
X-PUBLISHED-TTL:P3D
REFRESH-INTERVAL:P3D
CALSCALE:GREGORIAN
BEGIN:VEVENT
DTSTART:20140927T110000Z
DTEND:20140927T200000Z
X-MICROSOFT-CDO-ALLDAYEVENT:FALSE
SUMMARY:The 8th Annual Joyce Spratt Memorial Golf Outing - 09/27/2014
DESCRIPTION:Golf Event to benefit Saratoga Bridges at Brookhaven Golf CourseSeptember 27\, 2014 – The 8th Annual Joyce Spratt Memorial Golf Outing 8:30am Registration\; 10:30pm Shotgun Start $80 per golfer ANOTHER GREAT NETWORKING EVENT with over 100 golfers from area businesses attending. Enjoy buffet and prizes to follow play at Brookhaven Golf Course located in Porter Corners\, NY.
X-ALT-DESC;FMTTYPE=text/html:<p>Golf Event to benefit Saratoga Bridges at Brookhaven Golf Course</p><p style="margin: 0in 0in 0.0001pt\; text-align: justify\;"><strong><span style="font-family: Arial\,sans-serif\;">September 27\, 2014 – The 8</span></strong><strong><sup><span style="font-family: Arial\,sans-serif\;">th</span></sup></strong><strong><span style="font-family: Arial\,sans-serif\;"> Annual Joyce Spratt Memorial Golf Outing</span></strong></p> <p style="text-align: justify\;"><em><span style="font-family: Arial\,sans-serif\; color: rgb(64\, 64\, 64)\;">8:30am Registration\; 10:30pm Shotgun Start</span></em></p> <p style="text-align: justify\;"><em><span style="font-family: Arial\,sans-serif\; color: rgb(64\, 64\, 64)\;">$80 per golfer</span></em></p> <h4 style="text-align: justify\;"><strong><span style="font-size: 11pt\; font-family: Arial\,sans-serif\; color: rgb(64\, 64\, 64)\;">ANOTHER GREAT NETWORKING EVENT</span></strong><span style="font-size: 11pt\; font-family: Arial\,sans-serif\; color: rgb(64\, 64\, 64)\;"> with over 100 golfers from area businesses attending. Enjoy buffet and prizes to follow play at Brookhaven Golf Course located in Porter Corners\, NY. </span></h4>
LOCATION:Brookhaven Golf Course
UID:e.2254.2717
SEQUENCE:3
DTSTAMP:20260424T110930Z
URL:https://chamber.saratoga.org/events/details/the-8th-annual-joyce-spratt-memorial-golf-outing-09-27-2014-09-27-2014-2717
END:VEVENT

END:VCALENDAR
