BEGIN:VCALENDAR
VERSION:2.0
PRODID:-//ChamberMaster//Event Calendar 2.0//EN
METHOD:PUBLISH
X-PUBLISHED-TTL:P3D
REFRESH-INTERVAL:P3D
CALSCALE:GREGORIAN
BEGIN:VEVENT
DTSTART:20150419T160000Z
DTEND:20150419T190000Z
X-MICROSOFT-CDO-ALLDAYEVENT:FALSE
SUMMARY:The 4th Annual Autism Information Fair
DESCRIPTION:Presented by the Law Offices of Wilcenski & Pleat\, LLC\, Saratoga Bridges\, The Skidmore College Psychology Department\, and Parent Network of the Capital Region. \n\nExhibitors include\nRecreational Programs\nCamps\nTechnological Apps for Autism\nSchool Programs: Pre-K through College\nTherapeutic Programs
X-ALT-DESC;FMTTYPE=text/html:<span class="Description">Presented by the Law Offices of Wilcenski &amp\; Pleat\, LLC\, Saratoga Bridges\, The Skidmore College Psychology Department\, and Parent Network of the Capital Region. <br><br>Exhibitors include<br>Recreational Programs<br>Camps<br>Technological Apps for Autism<br>School Programs: Pre-K through College<br>Therapeutic Programs<br></span>
LOCATION:Saratoga City Center
UID:e.2254.4934
SEQUENCE:3
DTSTAMP:20260423T214148Z
URL:https://chamber.saratoga.org/events/details/the-4th-annual-autism-information-fair-04-19-2015-4934
END:VEVENT

END:VCALENDAR
