BEGIN:VCALENDAR
VERSION:2.0
PRODID:-//ChamberMaster//Event Calendar 2.0//EN
METHOD:PUBLISH
X-PUBLISHED-TTL:P3D
REFRESH-INTERVAL:P3D
CALSCALE:GREGORIAN
BEGIN:VEVENT
DTSTART:20151115T150000Z
DTEND:20151115T210000Z
X-MICROSOFT-CDO-ALLDAYEVENT:FALSE
SUMMARY:The 2nd Annual Jewish-themed Book Fair and Chanukah Sale
DESCRIPTION:Congregation Shaara Tfille and The Jewish Community Center of Saratoga Springs\, located at 84 Weibel Avenue in Saratoga Springs\, will host their 2nd Annual Jewish-themed Book Fair and Chanukah Sale on November 15th from 10:00am to 3pm at their site. The books\, provided by Northshire Bookstore of Saratoga Springs\, include a full range of Non-fiction\, Fiction\, Romance\, Cookbooks\, Children and Holiday titles that are only available locally at this event. 20% of the proceeds will go to their Sisterhood. For more information\, please contact 584-2370 or saratogajcc@albany.twcbc.com
X-ALT-DESC;FMTTYPE=text/html:Congregation Shaara Tfille and The Jewish Community Center of Saratoga Springs\, located at 84 Weibel Avenue in Saratoga Springs\, will host their 2nd Annual Jewish-themed Book Fair and Chanukah Sale on November 15th from 10:00am&nbsp\;to 3pm at their site. The books\, provided by Northshire Bookstore of Saratoga Springs\, include a full range of Non-fiction\, Fiction\, Romance\, Cookbooks\, Children and Holiday titles that are only available locally at this event. 20% of the proceeds will go to their Sisterhood. For more information\, please contact 584-2370 or saratogajcc@albany.twcbc.com
LOCATION:Congregation Shaara Tfille and The Jewish Community Center of Saratoga Springs\, located at 84 Weibel Avenue
UID:e.2254.13030
SEQUENCE:3
DTSTAMP:20260422T104407Z
URL:https://chamber.saratoga.org/events/details/the-2nd-annual-jewish-themed-book-fair-and-chanukah-sale-11-15-2015-13030
END:VEVENT

END:VCALENDAR
