BEGIN:VCALENDAR
VERSION:2.0
PRODID:-//ChamberMaster//Event Calendar 2.0//EN
METHOD:PUBLISH
X-PUBLISHED-TTL:P3D
REFRESH-INTERVAL:P3D
CALSCALE:GREGORIAN
BEGIN:VEVENT
DTSTART:20150727T143000Z
DTEND:20150727T230000Z
X-MICROSOFT-CDO-ALLDAYEVENT:FALSE
SUMMARY:The 12th Annual J. Michael Fitzgibbons Memorial Golf Classic
DESCRIPTION:July 27\, 2015  Relph Benefit Advisors presents The 12th Annual J. Michael Fitzgibbons Memorial Golf Classic 10:30 a.m. Check In $175 per person A GREAT NETWORKING EVENT with over 100 golfers from area businesses attending. Enjoy lunch\, complimentary beverages\, a gift from Saratoga Bridges\, contests and prizes\, 18 holes of golf and a 19th Hole Awards Ceremony (including a buffet dinner) at The Edison Club\, a private golf course located in Rexford\, NY. 10:30 a.m.  Registration 11:30a.m.  Lunch on the Terrace 12:30 p.m. Tee Off Awards Ceremony & Dinner Immediately following conclusion of play in Clubhouse.
X-ALT-DESC;FMTTYPE=text/html:July 27\, 2015 &nbsp\;Relph Benefit Advisors presents The 12th Annual J. Michael Fitzgibbons Memorial Golf Classic 10:30&nbsp\;a.m. Check In $175 per person A GREAT NETWORKING EVENT with over 100 golfers from area businesses attending. Enjoy lunch\, complimentary beverages\, a gift from Saratoga Bridges\, contests and prizes\, 18 holes of golf and a 19th Hole Awards Ceremony (including a buffet dinner) at The Edison Club\, a private golf course located in Rexford\, NY. 10:30 a.m. &nbsp\;Registration 11:30a.m.&nbsp\; Lunch on the Terrace 12:30&nbsp\;p.m. Tee Off Awards Ceremony &amp\; Dinner Immediately following conclusion of play in Clubhouse.
LOCATION:The Edison Club in Rexford\, NY
UID:e.2254.6676
SEQUENCE:3
DTSTAMP:20260423T041405Z
URL:https://chamber.saratoga.org/events/details/the-12th-annual-j-michael-fitzgibbons-memorial-golf-classic-07-27-2015-6676
END:VEVENT

END:VCALENDAR
