BEGIN:VCALENDAR
VERSION:2.0
PRODID:-//ChamberMaster//Event Calendar 2.0//EN
METHOD:PUBLISH
X-PUBLISHED-TTL:P3D
REFRESH-INTERVAL:P3D
CALSCALE:GREGORIAN
BEGIN:VEVENT
DTSTART:20161126T003000Z
DTEND:20161126T033000Z
X-MICROSOFT-CDO-ALLDAYEVENT:FALSE
SUMMARY:Thanksgiving Weekend 2016
DESCRIPTION:The Diamond Club Grill is your place to unwind Wednesday-Saturday this week!\n\n\n\nLive Music Every Night 7:30 P.M. to 10:30 P.M.\n\n11/23 Wednesday "Thanksgiving Eve"- Party with Solo G.- Garland Nelson\n\n11/24 Thanksgiving "Black Friday Pregame"- Dan Sherwin\n\n11/25 Friday "Waitin' on the Weekend"- In Spite of Ourselves\n\n11/26 Saturday "Date Night"- Chris Dollard\n\n\n\nThemed Food Specials Every Day:\n\nCarved Turkey Sandwich $10\, Sweet Potato Croquettes $7\, Pumpkin Pie $5\n\nTurkey Dinner with Mashed Potatoes\, Gravy\, Green Beans & Stuffing $25\n\n\n\nFree Raffle for ONE Complimentary Night's Stay & Dinner at the Diamond Club- Register at the Bar
X-ALT-DESC;FMTTYPE=text/html:<div style="text-align: center\;">The Diamond Club Grill is your place to unwind Wednesday-Saturday this week!<br />\n<br />\n<strong>Live Music Every Night 7:30 P.M. to 10:30 P.M.</strong><br />\n11/23 Wednesday &quot\;Thanksgiving Eve&quot\;- <strong>Party with Solo G.- Garland Nelson</strong><br />\n11/24 Thanksgiving &quot\;Black Friday Pregame&quot\;- <strong>Dan Sherwin</strong><br />\n11/25 Friday &quot\;Waitin&#39\; on the Weekend&quot\;- <strong>In Spite of Ourselves</strong><br />\n11/26 Saturday &quot\;Date Night&quot\;- <strong>Chris Dollard</strong><br />\n<br />\n<em><strong>Themed Food Specials Every Day:</strong><br />\nCarved Turkey Sandwich $10\, Sweet Potato Croquettes $7\, Pumpkin Pie $5<br />\nTurkey Dinner with Mashed Potatoes\, Gravy\, Green Beans &amp\; Stuffing $25<br />\n<br />\nFree Raffle for ONE Complimentary Night&#39\;s Stay &amp\; Dinner at the Diamond Club- Register at the Bar </em><br />\n<br />\n&nbsp\;</div>\n<br />\n&nbsp\;
LOCATION:The Diamond Club Grill 86 Congress Street Saratoga Springs\, New York 12866 518-886-1111
UID:e.2254.21349
SEQUENCE:3
DTSTAMP:20260420T200629Z
URL:https://chamber.saratoga.org/events/details/thanksgiving-weekend-2016-11-25-2016-21349
END:VEVENT

END:VCALENDAR
