BEGIN:VCALENDAR
VERSION:2.0
PRODID:-//ChamberMaster//Event Calendar 2.0//EN
METHOD:PUBLISH
X-PUBLISHED-TTL:P3D
REFRESH-INTERVAL:P3D
CALSCALE:GREGORIAN
BEGIN:VEVENT
DTSTART:20161124T160000Z
DTEND:20161124T220000Z
X-MICROSOFT-CDO-ALLDAYEVENT:FALSE
SUMMARY:Thanksgiving Grand Buffet
DESCRIPTION:Annual Thanksgiving Grand Buffet with variety of menu choices\, including gluten free and nut free items.
X-ALT-DESC;FMTTYPE=text/html:Annual Thanksgiving Grand Buffet with variety of menu choices\, including gluten free and nut free items.&nbsp\;
LOCATION:Longfellows Restaurant
UID:e.2254.20836
SEQUENCE:3
DTSTAMP:20260420T200554Z
URL:https://chamber.saratoga.org/events/details/thanksgiving-grand-buffet-20836
END:VEVENT

END:VCALENDAR
