BEGIN:VCALENDAR
VERSION:2.0
PRODID:-//ChamberMaster//Event Calendar 2.0//EN
METHOD:PUBLISH
X-PUBLISHED-TTL:P3D
REFRESH-INTERVAL:P3D
CALSCALE:GREGORIAN
BEGIN:VEVENT
DTSTART:20160913T160000Z
DTEND:20160913T160000Z
X-MICROSOFT-CDO-ALLDAYEVENT:FALSE
SUMMARY:Technology and Manufacturing Job Fair
DESCRIPTION:TIMES UNION/MONSTER TUESDAY\, SEPTEMBER 13th 2-7PM\, ALBANY MARRIOTT\, 189 WOLF ROAD FIND YOUR PERFECT JOB This event connects job seekers with local companies interested in hiring qualified skilled workers in the technology and advanced manufacturing sectors. HIRE THE SKILLED WORKERS YOUR BUSINESS NEEDS Reach hundreds of technology workers and recent college graduates at the third annual Technology and Manufacturing Job Fair - a partnership of the Times Union\, Monster.com and the Center for Economic Growth. For more information and registration form\, please go to http://timesunionjobfair.com/
X-ALT-DESC;FMTTYPE=text/html:TIMES UNION/MONSTER TUESDAY\, SEPTEMBER 13th 2-7PM\, ALBANY MARRIOTT\, 189 WOLF ROAD FIND YOUR PERFECT JOB This event connects job seekers with local companies interested in hiring qualified skilled workers in the technology and advanced manufacturing sectors. HIRE THE SKILLED WORKERS YOUR BUSINESS NEEDS Reach hundreds of technology workers and recent college graduates at the third annual Technology and Manufacturing Job Fair - a partnership of the Times Union\, Monster.com and the Center for Economic Growth. For more information and registration form\, please go to http://timesunionjobfair.com/
LOCATION:189 Wolf Road\, Colonie NY 12205
UID:e.2254.17312
SEQUENCE:3
DTSTAMP:20260421T021516Z
URL:https://chamber.saratoga.org/events/details/technology-and-manufacturing-job-fair-09-13-2016-17312
END:VEVENT

END:VCALENDAR
