BEGIN:VCALENDAR
VERSION:2.0
PRODID:-//ChamberMaster//Event Calendar 2.0//EN
METHOD:PUBLISH
X-PUBLISHED-TTL:P3D
REFRESH-INTERVAL:P3D
CALSCALE:GREGORIAN
BEGIN:VEVENT
DTSTART:20150916T210000Z
DTEND:20150916T230000Z
X-MICROSOFT-CDO-ALLDAYEVENT:FALSE
SUMMARY:Technique Series - Paella Cooking Class
DESCRIPTION:On September 16 Chef Roslyn Zecchini continues the DZ Restaurants Technique Series with an interactive class on how to make Paella de Catalana at Boca Bistro. Even if you have no prior experience making Spanish from scratch\, you'll enjoy this interactive class with Executive Chef Roslyn Zecchini.
X-ALT-DESC;FMTTYPE=text/html:On September 16 Chef Roslyn Zecchini continues the DZ Restaurants Technique Series with an interactive class on how to make Paella de Catalana at Boca Bistro. Even if you have no prior experience making Spanish from scratch\, you&#39\;ll enjoy this interactive class with Executive Chef Roslyn Zecchini.
LOCATION:Boca Bistro 384 Broadway Saratoga Springs\, NY
UID:e.2254.10203
SEQUENCE:3
DTSTAMP:20260423T004401Z
URL:https://chamber.saratoga.org/events/details/technique-series-paella-cooking-class-09-16-2015-10203
END:VEVENT

END:VCALENDAR
