BEGIN:VCALENDAR
VERSION:2.0
PRODID:-//ChamberMaster//Event Calendar 2.0//EN
METHOD:PUBLISH
X-PUBLISHED-TTL:P3D
REFRESH-INTERVAL:P3D
CALSCALE:GREGORIAN
BEGIN:VEVENT
DTSTART:20160421T223000Z
DTEND:20160422T000000Z
X-MICROSOFT-CDO-ALLDAYEVENT:FALSE
SUMMARY:Teacher?s Appreciation and Alumni Event: 25th Anniversary of Juried High School
DESCRIPTION:2016 is the 25th anniversary of the High School Juried Show. We invite educators and alumni of the show to join us for a dessert reception at the Hyde Collection. Join us to celebrate 25 years of distinguished high school artists and to show our appreciation to our community educators. Event is free and open to all educators and alumni of the Juried Show.
X-ALT-DESC;FMTTYPE=text/html:2016 is the 25th anniversary of the High School Juried Show. We invite educators and alumni of the show to join us for a dessert reception at the Hyde Collection. Join us to celebrate 25 years of distinguished high school artists and to show our appreciation to our community educators. Event is free and open to all educators and alumni of the Juried Show.
LOCATION:The Hyde Collection
UID:e.2254.15652
SEQUENCE:3
DTSTAMP:20260421T164411Z
URL:https://chamber.saratoga.org/events/details/teacher-s-appreciation-and-alumni-event-25th-anniversary-of-juried-high-school-04-21-2016-15652
END:VEVENT

END:VCALENDAR
