BEGIN:VCALENDAR
VERSION:2.0
PRODID:-//ChamberMaster//Event Calendar 2.0//EN
METHOD:PUBLISH
X-PUBLISHED-TTL:P3D
REFRESH-INTERVAL:P3D
CALSCALE:GREGORIAN
BEGIN:VEVENT
DTSTART:20151015T210000Z
DTEND:20151016T010000Z
X-MICROSOFT-CDO-ALLDAYEVENT:FALSE
SUMMARY:Taste of Home
DESCRIPTION:The Taste of Home Cooking School will feature a professional culinary specialist demonstrating recipes\, cooking methods\, practical kitchen tips\, and plating techniques in an entertaining and educational environment. The presenter shows step-by-step dishes using seasonal ingredients that are available at the local grocery store.\n\nDoors open at 4:15 p.m. for VIP seating and at 5 p.m. for general admission ticket holders. There is a vendor exhibition from 5-7 p.m. with taste sampling\, demonstrations and more by area businesses. The show begins at 7 p.m.\n\nAll Taste of Home Cooking School attendees receive a gift bag filled with coupons\, product samples and a Taste of Home Cooking School magazine.\n\nThe VIP packages are $45 and include early admission\, reserved seating\, a meet-and-greet with the chef at 4:30 p.m. (refreshments are served)\, and a copy of a Taste of Home Cookbook (retail value of the book is $29.95). The quantity of VIP seats is limited.\n\nGeneral admission tickets are $12 in advance and $15 the day of the show.\n\nAdvance tickets are available at the front counter of The Daily Gazette during normal business hours\, by mail by sending a self-addressed stamped envelope and a check for tickets to Taste of Home Show\, Daily Gazette\, 2345 Maxon Ext. Road\, Schenectady\, N\,Y\, 12301 or by visiting www.dailygazette.com/tasteofhome.
X-ALT-DESC;FMTTYPE=text/html:<p>The Taste of Home Cooking School will feature a professional culinary specialist demonstrating recipes\, cooking methods\, practical kitchen tips\, and plating techniques in an entertaining and educational environment. The presenter shows step-by-step dishes using seasonal ingredients that are available at the local grocery store.</p>\n\n<p>Doors open at 4:15 p.m. for VIP seating and at 5 p.m. for general admission ticket holders. There is a vendor exhibition from 5-7 p.m. with taste sampling\, demonstrations and more by area businesses. The show begins at 7 p.m.</p>\n\n<p>All Taste of Home Cooking School attendees receive a gift bag filled with coupons\, product samples and a Taste of Home Cooking School magazine.</p>\n\n<p>The VIP packages are $45 and include early admission\, reserved seating\, a meet-and-greet with the chef at 4:30 p.m. (refreshments are served)\, and a copy of a Taste of Home Cookbook (retail value of the book is $29.95). The quantity of VIP seats is limited.</p>\n\n<p>General admission tickets are $12 in advance and $15 the day of the show.</p>\n\n<p>Advance tickets are available at the front counter of The Daily Gazette during normal business hours\, by mail by sending a self-addressed stamped envelope and a check for tickets to Taste of Home Show\, Daily Gazette\, 2345 Maxon Ext. Road\, Schenectady\, N\,Y\, 12301 or by visiting <a href="http://www.dailygazette.com/tasteofhome/"><font color="#0066cc">www.dailygazette.com/tasteofhome</font></a>.</p>\n
LOCATION:Saratoga Springs City Center
UID:e.2254.12319
SEQUENCE:3
DTSTAMP:20260422T130507Z
URL:https://chamber.saratoga.org/events/details/taste-of-home-10-15-2015-12319
END:VEVENT

END:VCALENDAR
