BEGIN:VCALENDAR
VERSION:2.0
PRODID:-//ChamberMaster//Event Calendar 2.0//EN
METHOD:PUBLISH
X-PUBLISHED-TTL:P3D
REFRESH-INTERVAL:P3D
CALSCALE:GREGORIAN
BEGIN:VEVENT
DTSTART:20151017T230000Z
DTEND:20151018T020000Z
X-MICROSOFT-CDO-ALLDAYEVENT:FALSE
SUMMARY:Taste and Raise -
DESCRIPTION:Come to the Saratoga Winery for a night out\, while also supporting the Ronald McDonald House New York! Enjoy the opportunity to taste wine while raising money for a great cause. Your $15.00 cover at the door will include a wine tasting of several of the winery's finest wines\, and an opportunity to bid on exciting gifts in our silent auction. Some of our favorite vendors and live music will also be present. (More details to come!) Profits will be sent to the Ronald McDonald House Charities in support of Michelle Storm as she runs her first marathon\, at the TCS New York City Marathon\, on November 1\, 2015. If you cant make it\, please still consider making a donation. Online donations are accepted here: https://www.crowdrise.com/RmhnyMarathon2015/fundraiser/michellestorm Checks can be made payable to: "Ronald McDonald House New York". I truly appreciate all of the support as I conquer a longtime personal goal while supporting a charity that is near and dear to my heart. If you want to know more about why I chose the Ronald McDonald House Charities\, you can read my story here: https://www.facebook.com/notes/ronald-mcdonald-house-new-york/teamronaldstories-michelle-storms-road-to-the-marathon/10152992601379398?pnref=story I look forward to seeing you there\, and please invite your family and friends\; the more the merrier!
X-ALT-DESC;FMTTYPE=text/html:Come to the Saratoga Winery for a night out\, while also supporting the Ronald McDonald House New York! Enjoy the opportunity to taste wine while raising money for a great cause. Your $15.00 cover at the door will include a wine tasting of several of the winery&#39\;s finest wines\, and an opportunity to bid on exciting gifts in our silent auction. Some of our favorite vendors and live music will also be present. (More details to come!) Profits will be sent to the Ronald McDonald House Charities in support of Michelle Storm as she runs her first marathon\, at the TCS New York City Marathon\, on November 1\, 2015. If you cant make it\, please still consider making a donation. Online donations are accepted here: https://www.crowdrise.com/RmhnyMarathon2015/fundraiser/michellestorm Checks can be made payable to: &quot\;Ronald McDonald House New York&quot\;. I truly appreciate all of the support as I conquer a longtime personal goal while supporting a charity that is near and dear to my heart. If you want to know more about why I chose the Ronald McDonald House Charities\, you can read my story here: https://www.facebook.com/notes/ronald-mcdonald-house-new-york/teamronaldstories-michelle-storms-road-to-the-marathon/10152992601379398?pnref=story I look forward to seeing you there\, and please invite your family and friends\; the more the merrier!
LOCATION:The Saratoga Winery located at 462 Washington Street in Saratoga Springs.
UID:e.2254.12376
SEQUENCE:3
DTSTAMP:20260422T154524Z
URL:https://chamber.saratoga.org/events/details/taste-and-raise-10-17-2015-12376
END:VEVENT

END:VCALENDAR
