BEGIN:VCALENDAR
VERSION:2.0
PRODID:-//ChamberMaster//Event Calendar 2.0//EN
METHOD:PUBLISH
X-PUBLISHED-TTL:P3D
REFRESH-INTERVAL:P3D
CALSCALE:GREGORIAN
BEGIN:VEVENT
DTSTART:20160303T220000Z
DTEND:20160304T000000Z
X-MICROSOFT-CDO-ALLDAYEVENT:FALSE
SUMMARY:Tang Museum Workshop: Sound Mind
DESCRIPTION:SoundMind is a workshop that combines meditation\, sensory awareness\, and aesthetic activation of the breath\, body\, and voice. Alone\, in pairs\, and as a group\, participants will explore resonance and vibration through touching\, listening\, and collaborative creation.
X-ALT-DESC;FMTTYPE=text/html:SoundMind is a workshop that combines meditation\, sensory awareness\, and aesthetic activation of the breath\, body\, and voice. Alone\, in pairs\, and as a group\, participants will explore resonance and vibration through touching\, listening\, and collaborative creation.
LOCATION:Skidmore College\, Tang Muaeum 815 North Broadway Saratoga Springs\, NY 12866
UID:e.2254.14943
SEQUENCE:3
DTSTAMP:20260422T003829Z
URL:https://chamber.saratoga.org/events/details/tang-museum-workshop-sound-mind-03-03-2016-14943
END:VEVENT

END:VCALENDAR
