BEGIN:VCALENDAR
VERSION:2.0
PRODID:-//ChamberMaster//Event Calendar 2.0//EN
METHOD:PUBLISH
X-PUBLISHED-TTL:P3D
REFRESH-INTERVAL:P3D
CALSCALE:GREGORIAN
BEGIN:VEVENT
DTSTART:20150410T163000Z
DTEND:20150410T173000Z
X-MICROSOFT-CDO-ALLDAYEVENT:FALSE
SUMMARY:Tang Museum Tours
DESCRIPTION:Tang Museum Tours Skidmore College students will lead public tours of the museum. 12:30 p.m.-Tang Museum For more information call 518-580-8080
X-ALT-DESC;FMTTYPE=text/html:Tang Museum Tours Skidmore College students will lead public tours of the museum. 12:30 p.m.-Tang Museum For more information call 518-580-8080
LOCATION:Skidmore College\, Tang Museum 815 N. Broadway Saratoga Springs\, NY 12866
UID:e.2254.7578
SEQUENCE:3
DTSTAMP:20260423T195925Z
URL:https://chamber.saratoga.org/events/details/tang-museum-tours-04-10-2015-7578
END:VEVENT

END:VCALENDAR
