BEGIN:VCALENDAR
VERSION:2.0
PRODID:-//ChamberMaster//Event Calendar 2.0//EN
METHOD:PUBLISH
X-PUBLISHED-TTL:P3D
REFRESH-INTERVAL:P3D
CALSCALE:GREGORIAN
BEGIN:VEVENT
DTSTART:20150717T213000Z
DTEND:20150717T223000Z
X-MICROSOFT-CDO-ALLDAYEVENT:FALSE
SUMMARY:Tang Museum Tour
DESCRIPTION:Tang Museum Inside-Out tour with Michael Janairo 5:30 p.m.-Tang Museum For more information call 518-580-8080
X-ALT-DESC;FMTTYPE=text/html:Tang Museum Inside-Out tour with Michael Janairo 5:30 p.m.-Tang Museum For more information call 518-580-8080
LOCATION:Tang Museum\, Skidmore College 815 N Broadway Saratoga Springs\, NY 12866
UID:e.2254.9752
SEQUENCE:3
DTSTAMP:20260423T041024Z
URL:https://chamber.saratoga.org/events/details/tang-museum-tour-07-17-2015-9752
END:VEVENT

END:VCALENDAR
