BEGIN:VCALENDAR
VERSION:2.0
PRODID:-//ChamberMaster//Event Calendar 2.0//EN
METHOD:PUBLISH
X-PUBLISHED-TTL:P3D
REFRESH-INTERVAL:P3D
CALSCALE:GREGORIAN
BEGIN:VEVENT
DTSTART:20150129T223000Z
DTEND:20150129T233000Z
X-MICROSOFT-CDO-ALLDAYEVENT:FALSE
SUMMARY:Tang Museum: Special Preview Curators Tour
DESCRIPTION:Curator's tour of Realms of Earth and Sky: Indian Painting from the 15th to the 19th Century with Krista Gulbransen\, Assistant Professor of Art History and Visual Culture Studies at Whitman College\, and exhibition contributor. Made possible by the Alfred Z. Solomon Residency Fund and the Asian Studies Program at Skidmore College.
X-ALT-DESC;FMTTYPE=text/html:Curator&#39\;s tour of Realms of Earth and Sky: Indian Painting from the 15th to the 19th Century with Krista Gulbransen\, Assistant Professor of Art History and Visual Culture Studies at Whitman College\, and exhibition contributor. Made possible by the Alfred Z. Solomon Residency Fund and the Asian Studies Program at Skidmore College.
LOCATION:Tang Museum\, Skidmore College 815 North Broadway Saratoga Springs\, NY 12866
UID:e.2254.4872
SEQUENCE:3
DTSTAMP:20260424T053130Z
URL:https://chamber.saratoga.org/events/details/tang-museum-special-preview-curators-tour-01-29-2015-4872
END:VEVENT

END:VCALENDAR
