BEGIN:VCALENDAR
VERSION:2.0
PRODID:-//ChamberMaster//Event Calendar 2.0//EN
METHOD:PUBLISH
X-PUBLISHED-TTL:P3D
REFRESH-INTERVAL:P3D
CALSCALE:GREGORIAN
BEGIN:VEVENT
DTSTART:20140729T150000Z
DTEND:20140729T160000Z
X-MICROSOFT-CDO-ALLDAYEVENT:FALSE
SUMMARY:Tang Museum Public Tour of Opener 28: Erika Verzutti: Mineral - 07/29/2014
DESCRIPTION:Public Tour of Opener 28: Erika Verzutti: Mineral
X-ALT-DESC;FMTTYPE=text/html:<p>Public Tour of Opener 28: Erika Verzutti: Mineral </p><br>
LOCATION:Tang Museum\, Skidmore College
UID:e.2254.3414
SEQUENCE:3
DTSTAMP:20260424T180745Z
URL:https://chamber.saratoga.org/events/details/tang-museum-public-tour-of-opener-28-erika-verzutti-mineral-07-29-2014-07-29-2014-3414
END:VEVENT

END:VCALENDAR
