BEGIN:VCALENDAR
VERSION:2.0
PRODID:-//ChamberMaster//Event Calendar 2.0//EN
METHOD:PUBLISH
X-PUBLISHED-TTL:P3D
REFRESH-INTERVAL:P3D
CALSCALE:GREGORIAN
BEGIN:VEVENT
DTSTART:20140718T200000Z
DTEND:20140718T213000Z
X-MICROSOFT-CDO-ALLDAYEVENT:FALSE
SUMMARY:Tang Museum Panel Discussion: "Composition" - 07/18/2014
DESCRIPTION:Tang Museum Panel Discussion: "Composition"A panel discussion related to the Score exhibition presented by Skidmore’s Summer Studio Art Program\, moderated by Dayton Director Ian Berry and featuring the visual artists Kay Rosen and Fred Tomaselli\, and the writer and composer Rick Moody. A reception will follow the panel discussion.
X-ALT-DESC;FMTTYPE=text/html:<p>Tang Museum Panel Discussion: "Composition"</p>A panel discussion related to the Score exhibition presented by Skidmore’s Summer Studio Art Program\, moderated by Dayton Director Ian Berry and featuring the visual artists Kay Rosen and Fred Tomaselli\, and the writer and composer Rick Moody. A reception will follow the panel discussion.
LOCATION:Tang Museum\, Skidmore College
UID:e.2254.3395
SEQUENCE:3
DTSTAMP:20260424T163320Z
URL:https://chamber.saratoga.org/events/details/tang-museum-panel-discussion-composition-07-18-2014-07-18-2014-3395
END:VEVENT

END:VCALENDAR
