BEGIN:VCALENDAR
VERSION:2.0
PRODID:-//ChamberMaster//Event Calendar 2.0//EN
METHOD:PUBLISH
X-PUBLISHED-TTL:P3D
REFRESH-INTERVAL:P3D
CALSCALE:GREGORIAN
BEGIN:VEVENT
DTSTART:20150417T160000Z
DTEND:20150417T203000Z
X-MICROSOFT-CDO-ALLDAYEVENT:FALSE
SUMMARY:Tang Museum Miniature Painting Workshops
DESCRIPTION:Tang Museum Miniature Painting Workshops Noon-2 p.m. and 2:30-4:30 p.m.-Tang Museum Free and open to the public. Reservations required For more information and reservations call 518-580-8080
X-ALT-DESC;FMTTYPE=text/html:Tang Museum Miniature Painting Workshops Noon-2 p.m. and 2:30-4:30 p.m.-Tang Museum Free and open to the public. Reservations required For more information and reservations call 518-580-8080
LOCATION:Skidmore College\, Tang Museum 815 N. Broadway Saratoga Springs\, NY 12866
UID:e.2254.7723
SEQUENCE:3
DTSTAMP:20260423T214427Z
URL:https://chamber.saratoga.org/events/details/tang-museum-miniature-painting-workshops-04-17-2015-7723
END:VEVENT

END:VCALENDAR
