BEGIN:VCALENDAR
VERSION:2.0
PRODID:-//ChamberMaster//Event Calendar 2.0//EN
METHOD:PUBLISH
X-PUBLISHED-TTL:P3D
REFRESH-INTERVAL:P3D
CALSCALE:GREGORIAN
BEGIN:VEVENT
DTSTART:20150711T160000Z
DTEND:20150711T210000Z
X-MICROSOFT-CDO-ALLDAYEVENT:FALSE
SUMMARY:Tang Museum: Frances Day
DESCRIPTION:Tang Museum: Frances Day Join our community celebration of the museum's namesake\, Frances Young Tang '61\, with music\, tours\, art-making\, and more. Noon-5 p.m.-Tang Museum For more information call 518-580-8080
X-ALT-DESC;FMTTYPE=text/html:Tang Museum: Frances Day Join our community celebration of the museum&#39\;s namesake\, Frances Young Tang &#39\;61\, with music\, tours\, art-making\, and more. Noon-5 p.m.-Tang Museum For more information call 518-580-8080
LOCATION:Tang Museum\, Skidmore College 815 N Broadway Saratoga Springs\, NY 12866
UID:e.2254.9740
SEQUENCE:3
DTSTAMP:20260423T041040Z
URL:https://chamber.saratoga.org/events/details/tang-museum-frances-day-07-11-2015-9740
END:VEVENT

END:VCALENDAR
