BEGIN:VCALENDAR
VERSION:2.0
PRODID:-//ChamberMaster//Event Calendar 2.0//EN
METHOD:PUBLISH
X-PUBLISHED-TTL:P3D
REFRESH-INTERVAL:P3D
CALSCALE:GREGORIAN
BEGIN:VEVENT
DTSTART:20140809T160000Z
DTEND:20140809T173000Z
X-MICROSOFT-CDO-ALLDAYEVENT:FALSE
SUMMARY:Tang Museum Family Saturdays - 08/09/2014
DESCRIPTION:Tang Museum Family SaturdaysSuitable for children ages 5 and up with their adult companions. Programs include a brief tour of a current Tang exhibition followed by a hands-on art activity. Free and open to the public. Reservations are strongly suggested. 2-3:30 p.m.-Tang Museum For reservations and information call 518-580-8080
X-ALT-DESC;FMTTYPE=text/html:<p>Tang Museum Family Saturdays</p><p>Suitable for children ages 5 and up with their adult companions. Programs include a brief tour of a current Tang exhibition followed by a hands-on art activity. Free and open to the public. Reservations are strongly suggested.</p> <p>2-3:30 p.m.-Tang Museum</p> <span style="font-size: 12pt\; font-family: Times New Roman\,serif\;">For reservations and information call 518-580-8080</span>
LOCATION:Tang Museum\, Skidmore College
UID:e.2254.3436
SEQUENCE:3
DTSTAMP:20260424T155856Z
URL:https://chamber.saratoga.org/events/details/tang-museum-family-saturdays-08-09-2014-08-09-2014-3436
END:VEVENT

END:VCALENDAR
