BEGIN:VCALENDAR
VERSION:2.0
PRODID:-//ChamberMaster//Event Calendar 2.0//EN
METHOD:PUBLISH
X-PUBLISHED-TTL:P3D
REFRESH-INTERVAL:P3D
CALSCALE:GREGORIAN
BEGIN:VEVENT
DTSTART:20150627T160000Z
DTEND:20151004T210000Z
X-MICROSOFT-CDO-ALLDAYEVENT:FALSE
SUMMARY:Tang Museum Exhibition: Salmagundi Magazine: Fifty Years
DESCRIPTION:Exhibition June 27-October 4\, 2015 Tang Museum Exhibition: Salmagundi Magazine: Fifty Years and Afflict and Comfortable This two-part exhibition celebrates the fiftieth anniversary of Salmagundi Magazine\, an international quarterly of literature\, politics\, culture\, and the arts\, and the pairing of words of images in recognition of Salmagundi's fiftieth and the Tang's fifteenth anniversaries.
X-ALT-DESC;FMTTYPE=text/html:Exhibition June 27-October 4\, 2015 Tang Museum Exhibition: Salmagundi Magazine: Fifty Years and Afflict and Comfortable This two-part exhibition celebrates the fiftieth anniversary of Salmagundi Magazine\, an international quarterly of literature\, politics\, culture\, and the arts\, and the pairing of words of images in recognition of Salmagundi&#39\;s fiftieth and the Tang&#39\;s fifteenth anniversaries.
LOCATION:Skidmore College\,Tang Museum 815 N Broadway Saratoga Springs\, NY 12866
UID:e.2254.10176
SEQUENCE:3
DTSTAMP:20260422T160216Z
URL:https://chamber.saratoga.org/events/details/tang-museum-exhibition-salmagundi-magazine-fifty-years-06-27-2015-10176
END:VEVENT

END:VCALENDAR
