BEGIN:VCALENDAR
VERSION:2.0
PRODID:-//ChamberMaster//Event Calendar 2.0//EN
METHOD:PUBLISH
X-PUBLISHED-TTL:P3D
REFRESH-INTERVAL:P3D
CALSCALE:GREGORIAN
BEGIN:VEVENT
DTSTART:20140705T140000Z
DTEND:20141116T210000Z
X-MICROSOFT-CDO-ALLDAYEVENT:FALSE
SUMMARY:Tang Museum Exhibition: Opener 28: Erika Verzutti: Mineral - 07/05/2014
DESCRIPTION:This first solo museum exhibition for Sao Paulo-based artist Erika Verzutti July 5\, 2014-November 16\, 2014\nTang Museum Exhibition: Opener 28: Erika Verzutti: Mineral \nThis first solo museum exhibition for Sao Paulo-based artist Erika Verzutti features bronze\, concrete\, clay\, and wax sculptures that are imbued with a sense of mysterious ritual.\nTang Museum\nTuesday-Sunday\, Noon-5 p.m.\; Thursday\, Noon-9 p.m.\; Closed Mondays and major holidays\nFor more information call 518-580-8080
X-ALT-DESC;FMTTYPE=text/html:<p>This first solo museum exhibition for Sao Paulo-based artist Erika Verzutti</p><p>&nbsp\;<span style="font-size: 12pt\; font-family: Times New Roman\,serif\;">July 5\, 2014-November 16\, 2014</span></p>\n<p>Tang Museum Exhibition: <em>Opener 28: Erika Verzutti: Mineral </em></p>\n<p><span>This first solo museum exhibition for Sao Paulo-based artist Erika Verzutti features bronze\, concrete\, clay\, and wax sculptures that are imbued with a sense of mysterious ritual.</span></p>\n<p><span style="color: black\;">Tang Museum</span></p>\n<p><span style="color: black\;"><span style="font-size: 11pt\; font-family: 'Calibri'\,'sans-serif'\; color: black\; mso-fareast-font-family: Calibri\; mso-fareast-theme-font: minor-latin\; mso-bidi-font-family: 'Times New Roman'\; mso-ansi-language: EN-US\; mso-fareast-language: EN-US\; mso-bidi-language: AR-SA\;">Tuesday-Sunday\, Noon-5 p.m.\; </span><span style="font-size: 11pt\; font-family: 'Calibri'\,'sans-serif'\; mso-fareast-font-family: Calibri\; mso-fareast-theme-font: minor-latin\; mso-bidi-font-family: 'Times New Roman'\; mso-ansi-language: EN-US\; mso-fareast-language: EN-US\; mso-bidi-language: AR-SA\;">Thursday\, Noon-9 p.m.\; <span style="color: black\;">Closed Mondays and major holidays</span></span></span></p>\n<p><span style="font-size: 12pt\; font-family: Times New Roman\,serif\; color: black\;">For more information call 518-580-8080</span><br /><em><br /></em></p>
LOCATION:Tang Museum\, Skidmore College
UID:e.2254.3371
SEQUENCE:3
DTSTAMP:20260424T093723Z
URL:https://chamber.saratoga.org/events/details/tang-museum-exhibition-opener-28-erika-verzutti-mineral-07-05-2014-07-05-2014-3371
END:VEVENT

END:VCALENDAR
