BEGIN:VCALENDAR
VERSION:2.0
PRODID:-//ChamberMaster//Event Calendar 2.0//EN
METHOD:PUBLISH
X-PUBLISHED-TTL:P3D
REFRESH-INTERVAL:P3D
CALSCALE:GREGORIAN
BEGIN:VEVENT
DTSTART:20140705T140000Z
DTEND:20150104T210000Z
X-MICROSOFT-CDO-ALLDAYEVENT:FALSE
SUMMARY:Tang Museum Exhibition: Opener 26: Jeff Sonhouse - 07/05/2014
DESCRIPTION:A powerful body of portrait paintings depicting often-masked black male figures that consistently defy and obscure classification. July 5\, 2014-January 4\, 2015\nTang Museum Exhibition: Opener 26: Jeff Sonhouse \nOver the past 10 years\, New York-based artist Jeff Sonhouse has created a powerful body of portrait paintings depicting often-masked black male figures that consistently defy and obscure classification.\nTang Museum\n \nTuesday-Sunday\, Noon-5 p.m.\; Thursday\, Noon-9 p.m.\; Closed Mondays and major holidays.\n \nFor more information call 518-580-8080
X-ALT-DESC;FMTTYPE=text/html:<p>A powerful body of portrait paintings depicting often-masked black male figures that consistently defy and obscure classification.</p><p>&nbsp\;<span style="font-size: 12pt\; font-family: Times New Roman\,serif\;">July 5\, 2014-January 4\, 2015</span></p>\n<p>Tang Museum Exhibition: <em>Opener 26: Jeff Sonhouse </em></p>\n<p><span>Over the past 10 years\, New York-based artist Jeff Sonhouse has created a powerful body of portrait paintings depicting often-masked black male figures that consistently defy and obscure classification.</span></p>\n<p><span style="color: black\;">Tang Museum</span></p>\n<p>&nbsp\;</p>\n<p>Tuesday-Sunday\, Noon-5 p.m.\; Thursday\, Noon-9 p.m.\; Closed Mondays and major holidays.</p>\n<p>&nbsp\;</p>\n<p><span style="font-size: 12pt\; font-family: Times New Roman\,serif\; color: black\;">For more information call 518-580-8080</span><br /><em><br /></em></p>
LOCATION:Tang Museum\, Skidmore College
UID:e.2254.3369
SEQUENCE:3
DTSTAMP:20260424T015529Z
URL:https://chamber.saratoga.org/events/details/tang-museum-exhibition-opener-26-jeff-sonhouse-07-05-2014-07-05-2014-3369
END:VEVENT

END:VCALENDAR
