BEGIN:VCALENDAR
VERSION:2.0
PRODID:-//ChamberMaster//Event Calendar 2.0//EN
METHOD:PUBLISH
X-PUBLISHED-TTL:P3D
REFRESH-INTERVAL:P3D
CALSCALE:GREGORIAN
BEGIN:VEVENT
DTSTART:20160224T170000Z
DTEND:20160605T210000Z
X-MICROSOFT-CDO-ALLDAYEVENT:FALSE
SUMMARY:Tang Museum Exhibition: Elevator Music 30?Critter and Guitari
DESCRIPTION:Exhibition: Elevator Music 30 Critter and Guitari Preview: vimeo.com/154186845 Tang Museum Tuesday-Sunday\, noon-5 p.m.\; closed Mondays and major holidays. For more information call 518-580-8080
X-ALT-DESC;FMTTYPE=text/html:Exhibition: Elevator Music 30 Critter and Guitari Preview: vimeo.com/154186845 Tang Museum Tuesday-Sunday\, noon-5 p.m.\; closed Mondays and major holidays. For more information call 518-580-8080
LOCATION:Tang Museum\, Skidmore College 815 North Broadway Saratoga Springs\, NY 12866
UID:e.2254.14936
SEQUENCE:3
DTSTAMP:20260421T080841Z
URL:https://chamber.saratoga.org/events/details/tang-museum-exhibition-elevator-music-30-critter-and-guitari-02-24-2016-14936
END:VEVENT

END:VCALENDAR
