BEGIN:VCALENDAR
VERSION:2.0
PRODID:-//ChamberMaster//Event Calendar 2.0//EN
METHOD:PUBLISH
X-PUBLISHED-TTL:P3D
REFRESH-INTERVAL:P3D
CALSCALE:GREGORIAN
BEGIN:VEVENT
DTSTART:20150620T160000Z
DTEND:20150913T210000Z
X-MICROSOFT-CDO-ALLDAYEVENT:FALSE
SUMMARY:Tang Museum Exhibition: Elevator Music 29 Tim Davis: Unphotographable
DESCRIPTION:Exhibit May\,2 through September 13\, 2015 Featuring a new sound piece by Tim Davis consisting entirely of composed samples of the word "unphotographable" taken from various recordings of the 1937 Rodgers and Hart show tune\, My Funny Valentine. While Davis is best known as a photographer\, Unphotographable represents a new direction in his work based on his ever-growing collection of indexical audio\, visual\, and cultural curiosities. Tang Museum Tuesday-Sunday\, Noon-5 p.m.\; Friday\, Noon-7 p.m.\; Closed Mondays and major holidays. For more information call 518-580-8080
X-ALT-DESC;FMTTYPE=text/html:Exhibit May\,2 through September 13\, 2015 Featuring a new sound piece by Tim Davis consisting entirely of composed samples of the word &quot\;unphotographable&quot\; taken from various recordings of the 1937 Rodgers and Hart show tune\, My Funny Valentine. While Davis is best known as a photographer\, Unphotographable represents a new direction in his work based on his ever-growing collection of indexical audio\, visual\, and cultural curiosities. Tang Museum Tuesday-Sunday\, Noon-5 p.m.\; Friday\, Noon-7 p.m.\; Closed Mondays and major holidays. For more information call 518-580-8080
LOCATION:Tang Museum\, Skidmore College 815 N Broadway Saratoga Springs\, NY 12866
UID:e.2254.9629
SEQUENCE:3
DTSTAMP:20260423T005651Z
URL:https://chamber.saratoga.org/events/details/tang-museum-exhibition-elevator-music-29-tim-davis-unphotographable-06-20-2015-9629
END:VEVENT

END:VCALENDAR
