BEGIN:VCALENDAR
VERSION:2.0
PRODID:-//ChamberMaster//Event Calendar 2.0//EN
METHOD:PUBLISH
X-PUBLISHED-TTL:P3D
REFRESH-INTERVAL:P3D
CALSCALE:GREGORIAN
BEGIN:VEVENT
DTSTART:20150207T170000Z
DTEND:20150329T210000Z
X-MICROSOFT-CDO-ALLDAYEVENT:FALSE
SUMMARY:Tang Museum Exhibition: Elevator Music 28 Morton Subotnick-Silver Apples of the
DESCRIPTION:February 7-March 29\, 2015 Morton Subotnick's Silver Apples of the Moon is a groundbreaking 1967 composition of electronic music that uses a modular voltage-controlled synthesizer. Tang Museum Tuesday-Sunday\, Noon-5 p.m.\; Thursday\, Noon-9 p.m.\; Closed Mondays and major holidays. For more information call 518-580-8080
X-ALT-DESC;FMTTYPE=text/html:February 7-March 29\, 2015 Morton Subotnick&#39\;s Silver Apples of the Moon is a groundbreaking 1967 composition of electronic music that uses a modular voltage-controlled synthesizer. Tang Museum Tuesday-Sunday\, Noon-5 p.m.\; Thursday\, Noon-9 p.m.\; Closed Mondays and major holidays. For more information call 518-580-8080
LOCATION:Tang Museum\, Skidmore College 815 North Broadway Saratoga Springs\, NY 12866
UID:e.2254.5479
SEQUENCE:3
DTSTAMP:20260423T214717Z
URL:https://chamber.saratoga.org/events/details/tang-museum-exhibition-elevator-music-28-morton-subotnick-silver-apples-of-the-02-07-2015-5479
END:VEVENT

END:VCALENDAR
