BEGIN:VCALENDAR
VERSION:2.0
PRODID:-//ChamberMaster//Event Calendar 2.0//EN
METHOD:PUBLISH
X-PUBLISHED-TTL:P3D
REFRESH-INTERVAL:P3D
CALSCALE:GREGORIAN
BEGIN:VEVENT
DTSTART:20160224T170000Z
DTEND:20160814T210000Z
X-MICROSOFT-CDO-ALLDAYEVENT:FALSE
SUMMARY:Tang Museum Exhibition: Borrowed Light
DESCRIPTION:Exhibition: Borrowed Light Borrowed Light celebrates the gift of over 500 photographs from photographer\, curator\, and collector Jack Shear\, featuring a selection chosen by Tang Museum Dayton Director Ian Berry in collaboration with Shear. Tang Museum Tuesday-Sunday\, noon-5 p.m.\; closed Mondays and major holidays. For more information call 518-580-8080
X-ALT-DESC;FMTTYPE=text/html:Exhibition: Borrowed Light Borrowed Light celebrates the gift of over 500 photographs from photographer\, curator\, and collector Jack Shear\, featuring a selection chosen by Tang Museum Dayton Director Ian Berry in collaboration with Shear. Tang Museum Tuesday-Sunday\, noon-5 p.m.\; closed Mondays and major holidays. For more information call 518-580-8080
LOCATION:Tang Museum\, Skidmore College 815 North Broadway Saratoga Springs\, NY 12866
UID:e.2254.14935
SEQUENCE:3
DTSTAMP:20260421T003054Z
URL:https://chamber.saratoga.org/events/details/tang-museum-exhibition-borrowed-light-02-24-2016-14935
END:VEVENT

END:VCALENDAR
