BEGIN:VCALENDAR
VERSION:2.0
PRODID:-//ChamberMaster//Event Calendar 2.0//EN
METHOD:PUBLISH
X-PUBLISHED-TTL:P3D
REFRESH-INTERVAL:P3D
CALSCALE:GREGORIAN
BEGIN:VEVENT
DTSTART:20160225T170000Z
DTEND:20160225T180000Z
X-MICROSOFT-CDO-ALLDAYEVENT:FALSE
SUMMARY:Tang Museum Curator's Tour of Borrowed Light
DESCRIPTION:Curator's Tour of Borrowed Light Noon-Tang Museum For more information call 518-580-8080
X-ALT-DESC;FMTTYPE=text/html:Curator&#39\;s Tour of Borrowed Light Noon-Tang Museum For more information call 518-580-8080
LOCATION:Tang Museum\, Skidmore College 815 North Broadway Saratoga Springs\, NY 12866
UID:e.2254.14938
SEQUENCE:3
DTSTAMP:20260422T022702Z
URL:https://chamber.saratoga.org/events/details/tang-museum-curator-s-tour-of-borrowed-light-02-25-2016-14938
END:VEVENT

END:VCALENDAR
