BEGIN:VCALENDAR
VERSION:2.0
PRODID:-//ChamberMaster//Event Calendar 2.0//EN
METHOD:PUBLISH
X-PUBLISHED-TTL:P3D
REFRESH-INTERVAL:P3D
CALSCALE:GREGORIAN
BEGIN:VEVENT
DTSTART:20150710T230000Z
DTEND:20150711T010000Z
X-MICROSOFT-CDO-ALLDAYEVENT:FALSE
SUMMARY:Tang Museum Concert: UpBeat On the Roof
DESCRIPTION:Tang Museum Concert: UpBeat On the Roof Concert by Bryan Thomas 7 p.m.-Tang Museum rooftop patio\; rain location inside museum For more information call 518-580-8080
X-ALT-DESC;FMTTYPE=text/html:Tang Museum Concert: UpBeat On the Roof Concert by Bryan Thomas 7 p.m.-Tang Museum rooftop patio\; rain location inside museum For more information call 518-580-8080
LOCATION:Tang Museum\, Skidmore College 815 N Broadway Saratoga Springs\, NY 12866
UID:e.2254.9737
SEQUENCE:3
DTSTAMP:20260423T042800Z
URL:https://chamber.saratoga.org/events/details/tang-museum-concert-upbeat-on-the-roof-07-10-2015-9737
END:VEVENT

END:VCALENDAR
