BEGIN:VCALENDAR
VERSION:2.0
PRODID:-//ChamberMaster//Event Calendar 2.0//EN
METHOD:PUBLISH
X-PUBLISHED-TTL:P3D
REFRESH-INTERVAL:P3D
CALSCALE:GREGORIAN
BEGIN:VEVENT
DTSTART:20150402T230000Z
DTEND:20150403T010000Z
X-MICROSOFT-CDO-ALLDAYEVENT:FALSE
SUMMARY:Tang Museum Art Lecture
DESCRIPTION:Two leading scholars of Rajput painting: Molly Aitken\, associate professor of art history at the City College of New York\, and Dipti Khera\, assistant professor of art history at New York University\, will lecture on pleasure in South Asian paintings. Made possible by the Alfred Z. Solomon Residency Fund. 7 p.m.-Tang Museum For more information call 518-580-8080
X-ALT-DESC;FMTTYPE=text/html:Two leading scholars of Rajput painting: Molly Aitken\, associate professor of art history at the City College of New York\, and Dipti Khera\, assistant professor of art history at New York University\, will lecture on pleasure in South Asian paintings. Made possible by the Alfred Z. Solomon Residency Fund. 7 p.m.-Tang Museum For more information call 518-580-8080
LOCATION:Skidmore College\, Tang Museum 815 N. Broadway Saratoga Springs\, NY 12866
UID:e.2254.7567
SEQUENCE:3
DTSTAMP:20260423T195321Z
URL:https://chamber.saratoga.org/events/details/tang-museum-art-lecture-04-02-2015-7567
END:VEVENT

END:VCALENDAR
