BEGIN:VCALENDAR
VERSION:2.0
PRODID:-//ChamberMaster//Event Calendar 2.0//EN
METHOD:PUBLISH
X-PUBLISHED-TTL:P3D
REFRESH-INTERVAL:P3D
CALSCALE:GREGORIAN
BEGIN:VEVENT
DTSTART:20140826T150000Z
DTEND:20140826T160000Z
X-MICROSOFT-CDO-ALLDAYEVENT:FALSE
SUMMARY:Tang Museum - 08/26/2014
DESCRIPTION:Public Tour of Opener 26: Jeff Sonhouse and Opener 27: Beverly Semmes: FRP1 p.m.-Tang Museum For more information call 518-580-8080
X-ALT-DESC;FMTTYPE=text/html:<p>Public Tour of Opener 26: Jeff Sonhouse and Opener 27: Beverly Semmes: FRP</p><p><span>1 p.m.-Tang Museum</span></p> <span style="font-size: 12pt\; font-family: Times New Roman\,serif\;">For more information call 518-580-8080</span>
LOCATION:Tang Museum\, Skidmore College
UID:e.2254.3463
SEQUENCE:3
DTSTAMP:20260424T135911Z
URL:https://chamber.saratoga.org/events/details/tang-museum-08-26-2014-08-26-2014-3463
END:VEVENT

END:VCALENDAR
