BEGIN:VCALENDAR
VERSION:2.0
PRODID:-//ChamberMaster//Event Calendar 2.0//EN
METHOD:PUBLISH
X-PUBLISHED-TTL:P3D
REFRESH-INTERVAL:P3D
CALSCALE:GREGORIAN
BEGIN:VEVENT
DTSTART:20140819T150000Z
DTEND:20140819T160000Z
X-MICROSOFT-CDO-ALLDAYEVENT:FALSE
SUMMARY:Tang Inside/Out - 08/19/2014
DESCRIPTION:Tang Inside/OutPublic tour with assistant director for engagement Michael Janairo 1 p.m.- Tang Museum For more information call 518-580-8080
X-ALT-DESC;FMTTYPE=text/html:<p>Tang Inside/Out</p><p>Public tour with assistant director for engagement Michael Janairo</p> <p>1 p.m.-<span> Tang Museum</span></p> <span style="font-size: 12pt\; font-family: Times New Roman\,serif\;">For more information call 518-580-8080</span>
LOCATION:Tang Museum\, Skidmore College
UID:e.2254.3460
SEQUENCE:3
DTSTAMP:20260424T155753Z
URL:https://chamber.saratoga.org/events/details/tang-inside-out-08-19-2014-08-19-2014-3460
END:VEVENT

END:VCALENDAR
