BEGIN:VCALENDAR
VERSION:2.0
PRODID:-//ChamberMaster//Event Calendar 2.0//EN
METHOD:PUBLISH
X-PUBLISHED-TTL:P3D
REFRESH-INTERVAL:P3D
CALSCALE:GREGORIAN
BEGIN:VEVENT
DTSTART:20160730T180000Z
DTEND:20160730T193000Z
X-MICROSOFT-CDO-ALLDAYEVENT:FALSE
SUMMARY:Tang Family Saturdays
DESCRIPTION:Tang Family Saturdays Suitable for children ages 5 and up with their adult companions. Programs include a brief tour of a current Tang exhibition followed by a hands-on art activity. Free and open to the public. Reservations are strongly suggested. 2-3:30 p.m.-Tang Museum For reservations and information call 518-580-8080
X-ALT-DESC;FMTTYPE=text/html:Tang Family Saturdays Suitable for children ages 5 and up with their adult companions. Programs include a brief tour of a current Tang exhibition followed by a hands-on art activity. Free and open to the public. Reservations are strongly suggested. 2-3:30 p.m.-Tang Museum For reservations and information call 518-580-8080
LOCATION:Tang Museum\, Skidmore College 815 N Broadway Saratoga Springs\, NY 12866
UID:e.2254.17203
SEQUENCE:3
DTSTAMP:20260421T050624Z
URL:https://chamber.saratoga.org/events/details/tang-family-saturdays-07-30-2016-17203
END:VEVENT

END:VCALENDAR
