BEGIN:VCALENDAR
VERSION:2.0
PRODID:-//ChamberMaster//Event Calendar 2.0//EN
METHOD:PUBLISH
X-PUBLISHED-TTL:P3D
REFRESH-INTERVAL:P3D
CALSCALE:GREGORIAN
BEGIN:VEVENT
DTSTART:20160730T123000Z
DTEND:20160730T213000Z
X-MICROSOFT-CDO-ALLDAYEVENT:FALSE
SUMMARY:Swirling Star Bowl/Basket with Beverly Cornelius. #909-0730.
DESCRIPTION:The base of this beautiful bowl reminds me of an American Quilt Block. Students will learn a bit of patterned weaving to create the base of this basket. The bulk of the rest of the weaving is a continuous weave that results in the swirl effect seen in the bowl. Beautiful inside and out. This class is intended for students with basket weaving experience. Level: Intermediate to Advanced. Approximate finished size: 15"diameter x 4-6"deep.\n\n\nNOTE:  Students to bring to class: Basin for water\, sheetrock knife\, an old towel and washcloth\, clip clothespins\, and a spray bottle. Teacher will provide dyed reed for this project.
X-ALT-DESC;FMTTYPE=text/html:<pre>\n<span style="font-size:12pt"><span style="font-family:arial\,sans-serif"><span style="color:black">The base of this beautiful bowl reminds me of an American Quilt Block. Students will learn a bit of patterned weaving to create the base of this basket. The bulk of the rest of the weaving is a continuous weave that results in the swirl effect seen in the bowl. Beautiful inside and out. This class is intended for students with basket weaving experience. Level: Intermediate to Advanced. Approximate finished size: 15&quot\;diameter x 4-6&quot\;deep.</span></span></span></pre>\n\n<pre>\n<strong><span style="font-size:12pt"><span style="font-family:arial\,sans-serif"><span style="color:black">NOTE:&nbsp\; Students to bring to class: Basin for water\, sheetrock knife\, an old towel and washcloth\, clip clothespins\, and a spray bottle. Teacher will provide dyed reed for this project.</span></span></span></strong></pre>\n
LOCATION:Adirondack Folk School 51 Main Street Lake Luzerne\, NY 12846
UID:e.2254.15648
SEQUENCE:3
DTSTAMP:20260421T051001Z
URL:https://chamber.saratoga.org/events/details/swirling-star-bowl-basket-with-beverly-cornelius-909-0730-07-30-2016-15648
END:VEVENT

END:VCALENDAR
